BEGIN:VCALENDAR
VERSION:2.0
PRODID:-//IPAI//KI Festival 2026//EN
CALSCALE:GREGORIAN
METHOD:PUBLISH
BEGIN:VEVENT
UID:kifestival2026@ipai-foundation.ai
DTSTAMP:20260325T000000Z
SUMMARY:KI FESTIVAL 2026
DESCRIPTION:25. Juli: 11:00–21:00 Uhr (offizielle Eröffnungsrede 12:00 Uhr)\n26. Juli: 11:00–18:00 Uhr\n\nBesuch https://ipai-foundation.ai/ki-festival/ für alle aktuellen Updates.
LOCATION:Im Zukunftspark 11/13, 74076 Heilbronn
DTSTART:20260725T090000Z
DTEND:20260726T160000Z
END:VEVENT
END:VCALENDAR